BEGIN:VCALENDAR
VERSION:2.0
CALSCALE:GREGORIAN
METHOD:PUBLISH
PRODID://GLAC//987496
BEGIN:VEVENT
DTSTAMP:20260423T143614
VTIMEZONE:America/Chicago
DTSTART:20200507T140000Z
DTEND:20200507T220000Z
UID:987496
SUMMARY:Drivers License Exam Testing -CANCELLED UNTIL FURTHER NOTICE
LOCATION:Glenwood Lakes Area Chamber of Commerce & Welcome Center, 7 First Street NW, Glenwood, MN, 56334
DESCRIPTION:Drivers License Exam Testing -CANCELLED UNTIL FURTHER NOTICE\n\n05/07/20 09:00 AM CST\n - 05/07/20 05:00 PM CST\Description:\nExam Testing Schedule:\n\n1st Thursday of the month\n\n	Written tests: 10:00 a.m. - 11:15 a.m.\n\nRoad Test Appointments must be made in advance by calling\n\n\n	(320) 762-7808 Mondays' or Tuesdays or\n	(218) 846-8270 Monday - Friday\n\nor Online at dvs.dps.mn.gov\Location:\nGlenwood Lakes Area Chamber of Commerce & Welcome Center\n7 First Street NW\nGlenwood, MN 56334
X-ALT-DESC;FMTTYPE=text/html:Drivers License Exam Testing -CANCELLED UNTIL FURTHER NOTICE<br /><br />05/07/20 09:00 AM CST - 05/07/20 05:00 PM CST<br />Description:<br />Exam Testing Schedule:<br />
<br />
1st Thursday of the month
<ul>
	<li>Written tests: 10:00 a.m. - 11:15 a.m.</li>
</ul>
Road Test Appointments must be made in advance by calling

<ul>
	<li>(320) 762-7808 Mondays' or Tuesdays or</li>
	<li>(218) 846-8270 Monday - Friday</li>
</ul>
or Online at dvs.dps.mn.gov<br />Location:<br />Glenwood Lakes Area Chamber of Commerce & Welcome Center<br />7 First Street NW<br />Glenwood, MN 56334
PRIORITY:3
TRANSP:TRANSPARENT
BEGIN:VALARM
TRIGGER:-PT5M
ACTION:DISPLAY
DESCRIPTION:Reminder
END:VALARM
END:VEVENT
END:VCALENDAR
