BEGIN:VCALENDAR
VERSION:2.0
CALSCALE:GREGORIAN
METHOD:PUBLISH
PRODID://GLAC//1428396
BEGIN:VEVENT
DTSTAMP:20260422T190255
VTIMEZONE:America/Chicago
DTSTART:20261112T150000Z
DTEND:20261112T220000Z
UID:1428396
SUMMARY:VLS member Library Director's Meeting
LOCATION:Glenwood Lakes Area Welcome Center, 7 First Street NW, Glenwood, MN, 56334
DESCRIPTION:VLS member Library Director's Meeting\n\n11/12/26 09:00 AM CST\n - 11/12/26 04:00 PM CST\Location:\nGlenwood Lakes Area Welcome Center\n7 First Street NW\nGlenwood, MN 56334
X-ALT-DESC;FMTTYPE=text/html:VLS member Library Director's Meeting<br /><br />11/12/26 09:00 AM CST - 11/12/26 04:00 PM CST<br />Location:<br />Glenwood Lakes Area Welcome Center<br />7 First Street NW<br />Glenwood, MN 56334
PRIORITY:3
TRANSP:TRANSPARENT
BEGIN:VALARM
TRIGGER:-PT5M
ACTION:DISPLAY
DESCRIPTION:Reminder
END:VALARM
END:VEVENT
END:VCALENDAR
