BEGIN:VCALENDAR
VERSION:2.0
CALSCALE:GREGORIAN
METHOD:PUBLISH
PRODID://GLAC//1428361
BEGIN:VEVENT
DTSTAMP:20260422T071424
VTIMEZONE:America/Chicago
DTSTART:20260425T160000Z
DTEND:20260425T190000Z
UID:1428361
SUMMARY:Spring Soupfest & Music
LOCATION:WaskaVillage, 112 Minnesota Ave W, Glenwood, MN, 56334
DESCRIPTION:Spring Soupfest & Music\n\n04/25/26 11:00 AM CST\n - 04/25/26 02:00 PM CST\Description:\nWaskaVillage Spring Soupfest\Details:\nFlights of homemade soups:\n3 soups & breadstick=$10\n4 soups & breadstick=$12\nSingle soup=$5\Location:\nWaskaVillage\n112 Minnesota Ave W\nGlenwood, MN 56334
X-ALT-DESC;FMTTYPE=text/html:Spring Soupfest & Music<br /><br />04/25/26 11:00 AM CST - 04/25/26 02:00 PM CST<br />Description:<br />WaskaVillage Spring Soupfest<br />Details:<br />Flights of homemade soups:<br />
3 soups &amp; breadstick=$10<br />
4 soups &amp; breadstick=$12<br />
Single soup=$5<br />Location:<br />WaskaVillage<br />112 Minnesota Ave W<br />Glenwood, MN 56334
PRIORITY:3
TRANSP:TRANSPARENT
BEGIN:VALARM
TRIGGER:-PT5M
ACTION:DISPLAY
DESCRIPTION:Reminder
END:VALARM
END:VEVENT
END:VCALENDAR
