BEGIN:VCALENDAR
VERSION:2.0
CALSCALE:GREGORIAN
METHOD:PUBLISH
PRODID://GLAC//1428330
BEGIN:VEVENT
DTSTAMP:20260422T074220
VTIMEZONE:America/Chicago
DTSTART:20260505T160000Z
DTEND:20260505T190000Z
UID:1428330
SUMMARY:new event
LOCATION:Glenwood Lakes Area Welcome Center, 7 First Street NW, Glenwood, MN, 56334
DESCRIPTION:new event\n\n05/05/26 11:00 AM CST\n - 05/05/26 02:00 PM CST\Description:\nToimothy JOhnson, Egagle Fiiancial Services Seminars\Location:\nGlenwood Lakes Area Welcome Center\n7 First Street NW\nGlenwood, MN 56334
X-ALT-DESC;FMTTYPE=text/html:new event<br /><br />05/05/26 11:00 AM CST - 05/05/26 02:00 PM CST<br />Description:<br />Toimothy JOhnson, Egagle Fiiancial Services Seminars<br />Location:<br />Glenwood Lakes Area Welcome Center<br />7 First Street NW<br />Glenwood, MN 56334
PRIORITY:3
TRANSP:TRANSPARENT
BEGIN:VALARM
TRIGGER:-PT5M
ACTION:DISPLAY
DESCRIPTION:Reminder
END:VALARM
END:VEVENT
END:VCALENDAR
