BEGIN:VCALENDAR
VERSION:2.0
CALSCALE:GREGORIAN
METHOD:PUBLISH
PRODID://GLAC//1428318
BEGIN:VEVENT
DTSTAMP:20260422T071423
VTIMEZONE:America/Chicago
DTSTART:20260514T210000Z
DTEND:20260515T000000Z
UID:1428318
SUMMARY:Eagle Financial Services Seminar
LOCATION:Glenwood Lakes Area Chamber of Commerce, 7 First Street NW, Glenwood, MN, 56334
DESCRIPTION:Eagle Financial Services Seminar\n\n05/14/26 04:00 PM CST\n - 05/14/26 07:00 PM CST\Description:\nEagle Financial Services Seminar\Location:\nGlenwood Lakes Area Chamber of Commerce\n7 First Street NW\nGlenwood, MN 56334
X-ALT-DESC;FMTTYPE=text/html:Eagle Financial Services Seminar<br /><br />05/14/26 04:00 PM CST - 05/14/26 07:00 PM CST<br />Description:<br />Eagle Financial Services Seminar<br />Location:<br />Glenwood Lakes Area Chamber of Commerce<br />7 First Street NW<br />Glenwood, MN 56334
PRIORITY:3
TRANSP:TRANSPARENT
BEGIN:VALARM
TRIGGER:-PT5M
ACTION:DISPLAY
DESCRIPTION:Reminder
END:VALARM
END:VEVENT
END:VCALENDAR
