BEGIN:VCALENDAR
VERSION:2.0
CALSCALE:GREGORIAN
METHOD:PUBLISH
PRODID://GLAC//1428314
BEGIN:VEVENT
DTSTAMP:20260422T091601
VTIMEZONE:America/Chicago
DTSTART:20260308T010000Z
DTEND:20260308T050000Z
UID:1428314
SUMMARY:Adult Biker Prom
LOCATION:Paynesville Legion , Paynesville, MN
DESCRIPTION:Adult Biker Prom\n\n03/07/26 07:00 PM CST\n - 03/07/26 11:00 PM CST\Description:\nAll are welcome to come have dinner, dance, bid on silent auction items and just have fun with us. \nA.B.A.T.E. of Minnesota Glacial Ridge Chapter is having prom at the Paynesville Legion!\nCasual dress code, jeans are ok!\Details:\n20.00 advanced,  25.00 at the door. Supper included.\n7 - 11 pm with DJ Wonderful! \nSilent auction \Location:\nPaynesville Legion \n\nPaynesville, MN
X-ALT-DESC;FMTTYPE=text/html:Adult Biker Prom<br /><br />03/07/26 07:00 PM CST - 03/07/26 11:00 PM CST<br />Description:<br />All are welcome to come have dinner, dance, bid on silent auction items and just have fun with us.&nbsp;<br />
A.B.A.T.E. of Minnesota Glacial Ridge Chapter is having prom at the Paynesville Legion!<br />
Casual dress code, jeans are ok!<br />Details:<br />20.00 advanced,&nbsp; 25.00 at the door. Supper included.<br />
7 - 11 pm with DJ Wonderful!&nbsp;<br />
Silent auction&nbsp;<br />Location:<br />Paynesville Legion <br /><br />Paynesville, MN 
PRIORITY:3
TRANSP:TRANSPARENT
BEGIN:VALARM
TRIGGER:-PT5M
ACTION:DISPLAY
DESCRIPTION:Reminder
END:VALARM
END:VEVENT
END:VCALENDAR
