BEGIN:VCALENDAR
VERSION:2.0
CALSCALE:GREGORIAN
METHOD:PUBLISH
PRODID://GLAC//1428281
BEGIN:VEVENT
DTSTAMP:20260422T125300
VTIMEZONE:America/Chicago
DTSTART:20260702T133000Z
DTEND:20260702T210000Z
UID:1428281
SUMMARY:Drivers License Testing
LOCATION:Glenwood Lakes Area Chamber of Commerce, 7 First Street NW, Glenwood, MN, 56334
DESCRIPTION:Drivers License Testing\n\n07/02/26 08:30 AM CST\n - 07/02/26 04:00 PM CST\Location:\nGlenwood Lakes Area Chamber of Commerce\n7 First Street NW\nGlenwood, MN 56334
X-ALT-DESC;FMTTYPE=text/html:Drivers License Testing<br /><br />07/02/26 08:30 AM CST - 07/02/26 04:00 PM CST<br />Location:<br />Glenwood Lakes Area Chamber of Commerce<br />7 First Street NW<br />Glenwood, MN 56334
PRIORITY:3
TRANSP:TRANSPARENT
BEGIN:VALARM
TRIGGER:-PT5M
ACTION:DISPLAY
DESCRIPTION:Reminder
END:VALARM
END:VEVENT
END:VCALENDAR
