BEGIN:VCALENDAR
VERSION:2.0
CALSCALE:GREGORIAN
METHOD:PUBLISH
PRODID://GLAC//1428259
BEGIN:VEVENT
DTSTAMP:20260422T110437
VTIMEZONE:America/Chicago
DTSTART:20260604T133000Z
DTEND:20260604T210000Z
UID:1428259
SUMMARY:Drivers License Testing
LOCATION:Glenwood Lakes Welcome Center, 7 First Street NW, Glenwood, MN, 56334
DESCRIPTION:Drivers License Testing\n\n06/04/26 08:30 AM CST\n - 06/04/26 04:00 PM CST\Location:\nGlenwood Lakes Welcome Center\n7 First Street NW\nGlenwood, MN 56334
X-ALT-DESC;FMTTYPE=text/html:Drivers License Testing<br /><br />06/04/26 08:30 AM CST - 06/04/26 04:00 PM CST<br />Location:<br />Glenwood Lakes Welcome Center<br />7 First Street NW<br />Glenwood, MN 56334
PRIORITY:3
TRANSP:TRANSPARENT
BEGIN:VALARM
TRIGGER:-PT5M
ACTION:DISPLAY
DESCRIPTION:Reminder
END:VALARM
END:VEVENT
END:VCALENDAR
