BEGIN:VCALENDAR
VERSION:2.0
CALSCALE:GREGORIAN
METHOD:PUBLISH
PRODID://GLAC//1427450
BEGIN:VEVENT
DTSTAMP:20260422T110021
VTIMEZONE:America/Chicago
DTSTART:20260620T160000Z
DTEND:20260621T024500Z
UID:1427450
SUMMARY:Riding For a Cause
LOCATION:City Park Glenwood, 180 S Lakeshore Drive, Glenwood, MN, 56334
DESCRIPTION:Riding For a Cause\n\n06/20/26 11:00 AM CST\n - 06/20/26 09:45 PM CST\Description:\n30 years later, wouldn't record attendance be spectacular?\nThis annual motorcycle ride and car run winds through the scenic rolling hills and lakes of Pope County, including stretches along Lake Minnewaska, while supporting Glacial Ridge Hospice—making it a meaningful way to enjoy the road and give back. \n\nYou don't have to ride or drive to have fun! Everyone is welcome to join in on the basket raffle and watch as they take off at 1 pm. (Prizes and drawings will take place at 12:30 pm before the ride.)\n\nThere's also a Night Ride route starting at 9 pm.\Details:\nFree Will Donation\n \n\Location:\nCity Park Glenwood\n180 S Lakeshore Drive\nGlenwood, MN 56334
X-ALT-DESC;FMTTYPE=text/html:Riding For a Cause<br /><br />06/20/26 11:00 AM CST - 06/20/26 09:45 PM CST<br />Description:<br />30 years later, wouldn't record attendance be spectacular?<br />
This annual motorcycle ride and car run winds through the scenic rolling hills and lakes of Pope County, including stretches along Lake Minnewaska, while supporting&nbsp;<a href="https://glacialridge.org/hospice-palliative-care/">Glacial Ridge Hospice</a>&mdash;making it a meaningful way to enjoy the road and give back.&nbsp;<br />
<br />
You don't have to ride or drive to have fun! Everyone is welcome to join in on the basket raffle and watch as they take off at 1 pm. (Prizes and drawings will take place at 12:30 pm before the ride.)<br />
<br />
There's also a Night Ride route starting at 9 pm.<br />Details:<br />Free Will Donation
<h2 data-end="1009" data-section-id="1vgtyvn" data-start="973">&nbsp;</h2>
<br />Location:<br />City Park Glenwood<br />180 S Lakeshore Drive<br />Glenwood, MN 56334
PRIORITY:3
TRANSP:TRANSPARENT
BEGIN:VALARM
TRIGGER:-PT5M
ACTION:DISPLAY
DESCRIPTION:Reminder
END:VALARM
END:VEVENT
END:VCALENDAR
