BEGIN:VCALENDAR
VERSION:2.0
CALSCALE:GREGORIAN
METHOD:PUBLISH
PRODID://GLAC//1427449
BEGIN:VEVENT
DTSTAMP:20260422T110412
VTIMEZONE:America/Chicago
DTSTART:20260613T140000Z
DTEND:20260613T154500Z
UID:1427449
SUMMARY:GRHS 5K Scrub Run
LOCATION:City Park, Lakeside Ballroom , 180 S Lakeshore Drive, Glenwood, MN, 56334
DESCRIPTION:GRHS 5K Scrub Run\n\n06/13/26 09:00 AM CST\n - 06/13/26 10:45 AM CST\Description:\nKick off summer vacation with a 5K fun run/walk along Lake Minnewaska. Register by June 1 to get a free shirt - choose a t-shirt or tank top! This is the 12th annual event, honoring physical activity, community connection, and the memory of Dr. Mark Johnson. Everyone is welcome, including dogs and kids in strollers!\Details:\n$30 for 16 and older, $25 for 15 and younger. Add $5 per person the day of the event = We want you to preregister! To be sure you get a shirt, in the size you want, register before June 1.\n\nThere will be post-race refreshments and door prizes. The first finishers will get a medal.\Location:\nCity Park, Lakeside Ballroom \n180 S Lakeshore Drive\nGlenwood, MN 56334
X-ALT-DESC;FMTTYPE=text/html:GRHS 5K Scrub Run<br /><br />06/13/26 09:00 AM CST - 06/13/26 10:45 AM CST<br />Description:<br />Kick off summer vacation with a 5K fun run/walk along Lake Minnewaska. Register by June 1 to get a free shirt - choose a t-shirt or tank top! This is the 12th annual event, honoring physical activity, community connection, and the memory of Dr. Mark Johnson. Everyone is welcome, including dogs and kids in strollers!<br />Details:<br />$30 for 16 and older, $25 for 15 and younger. Add $5 per person the day of the event = We want you to preregister! To be sure you get a shirt, in the size you want, register before June 1.<br />
<br />
There will be post-race refreshments and door prizes. The first finishers will get a medal.<br />Location:<br />City Park, Lakeside Ballroom <br />180 S Lakeshore Drive<br />Glenwood, MN 56334
PRIORITY:3
TRANSP:TRANSPARENT
BEGIN:VALARM
TRIGGER:-PT5M
ACTION:DISPLAY
DESCRIPTION:Reminder
END:VALARM
END:VEVENT
END:VCALENDAR
