BEGIN:VCALENDAR
VERSION:2.0
CALSCALE:GREGORIAN
METHOD:PUBLISH
PRODID://GLAC//1427447
BEGIN:VEVENT
DTSTAMP:20260422T091601
VTIMEZONE:America/Chicago
DTSTART:20260301T200000Z
DTEND:20260301T214500Z
UID:1427447
SUMMARY:Sons of Norway MjÃ¸sen Lodge Program & Meeting.
LOCATION:Fron Lutheran Church, 605 Hagenson St,, Starbuck, MN, 56381
DESCRIPTION:Sons of Norway MjÃ¸sen Lodge Program & Meeting.\n\n03/01/26 02:00 PM CST\n - 03/01/26 03:45 PM CST\Description:\nSons of Norway Mjøsen Lodge Meeting. Sunday, March 1, 2 pm\nDining Hall at Fron Lutheran Church, Starbuck, MN\n\nJoin us for our March program\n“Fire Kvinner med ForklÓ•r”\n(Four Women in Aprons)\nKaren Freeman, Kathy Claussen, Julie Hanson, and Rose Meade\nwill share how to make four authentic, yummy Norwegian foods:\n\n	Fattigmann (Poor man’s cookie)\n	Risgrøt – Rice pudding\n	Hjertvafler – Heart-shaped waffles\n	Smørbrød – Open-faced sandwiches\n\nInformation about the Sons of Norway Cultural Food Program will be shared. You will also hear about heritage recipes and family stories around Norwegian foods that we love.\nBRING A FRIEND AND COME HUNGRY!\Details:\nSons of Norway Mjøsen Lodge Meeting. Sunday, March 1, 2 pm\nDining Hall at Fron Lutheran Church, Starbuck, MN\n\nJoin us for our March program (Free Will donation)\n“Fire Kvinner med ForklÓ•r”\n(Four Women in Aprons)\nKaren Freeman, Kathy Claussen, Julie Hanson, and Rose Meade\nwill share how to make four authentic, yummy Norwegian foods:\n\n	Fattigmann (Poor man’s cookie)\n	Risgrøt – Rice pudding\n	Hjertvafler – Heart-shaped waffles\n	Smørbrød – Open-faced sandwiches\n\nInformation about the Sons of Norway Cultural Food Program will be shared. You will also hear about heritage recipes and family stories around Norwegian foods that we love.\nBRING A FRIEND AND COME HUNGRY!\Location:\nFron Lutheran Church\n605 Hagenson St,\nStarbuck, MN 56381
X-ALT-DESC;FMTTYPE=text/html:Sons of Norway MjÃ¸sen Lodge Program & Meeting.<br /><br />03/01/26 02:00 PM CST - 03/01/26 03:45 PM CST<br />Description:<br /><span style="font-size:14px"><strong>Sons of Norway Mj&oslash;sen Lodge Meeting. Sunday, March 1, 2 pm</strong></span><br />
<strong>Dining Hall at Fron Lutheran Church, Starbuck, MN</strong><br />
<br />
<span style="font-size:14px"><strong>Join us for our March program</strong></span><br />
&ldquo;Fire Kvinner med ForklÓ•r&rdquo;<br />
(<strong>Four Women in Aprons)</strong><br />
Karen Freeman, Kathy Claussen, Julie Hanson, and Rose Meade<br />
will share how to make four authentic, yummy Norwegian foods:
<ul>
	<li>Fattigmann (Poor man&rsquo;s cookie)</li>
	<li>Risgr&oslash;t &ndash; Rice pudding</li>
	<li>Hjertvafler &ndash; Heart-shaped waffles</li>
	<li>Sm&oslash;rbr&oslash;d &ndash; Open-faced sandwiches</li>
</ul>
Information about the Sons of Norway Cultural Food Program will be shared. You will also hear about heritage recipes and family stories around Norwegian foods that we love.<br />
<strong>BRING A FRIEND AND COME HUNGRY!</strong><br />Details:<br />Sons of Norway Mj&oslash;sen Lodge Meeting. Sunday, March 1, 2 pm<br />
<strong>Dining Hall at Fron Lutheran Church, Starbuck, MN</strong><br />
<br />
<span style="font-size:14px"><strong>Join us for our March program (Free Will donation)</strong></span><br />
&ldquo;Fire Kvinner med ForklÓ•r&rdquo;<br />
(<strong>Four Women in Aprons)</strong><br />
Karen Freeman, Kathy Claussen, Julie Hanson, and Rose Meade<br />
will share how to make four authentic, yummy Norwegian foods:
<ul>
	<li>Fattigmann (Poor man&rsquo;s cookie)</li>
	<li>Risgr&oslash;t &ndash; Rice pudding</li>
	<li>Hjertvafler &ndash; Heart-shaped waffles</li>
	<li>Sm&oslash;rbr&oslash;d &ndash; Open-faced sandwiches</li>
</ul>
Information about the Sons of Norway Cultural Food Program will be shared. You will also hear about heritage recipes and family stories around Norwegian foods that we love.<br />
<span style="font-family:arial,helvetica,sans-serif"><strong>BRING A FRIEND AND COME HUNGRY!</strong></span><br />Location:<br />Fron Lutheran Church<br />605 Hagenson St,<br />Starbuck, MN 56381
PRIORITY:3
TRANSP:TRANSPARENT
BEGIN:VALARM
TRIGGER:-PT5M
ACTION:DISPLAY
DESCRIPTION:Reminder
END:VALARM
END:VEVENT
END:VCALENDAR
