BEGIN:VCALENDAR
VERSION:2.0
CALSCALE:GREGORIAN
METHOD:PUBLISH
PRODID://GLAC//1427445
BEGIN:VEVENT
DTSTAMP:20260422T110026
VTIMEZONE:America/Chicago
DTSTART:20260215T200000Z
DTEND:20260215T220000Z
UID:1427445
SUMMARY:Central Lakes Symphony Orchestra Concert
LOCATION:Alexandria Area High School Performing Arts Center, 4300 Pioneer Drive, Alexandria, MN, 56308
DESCRIPTION:Central Lakes Symphony Orchestra Concert\n\n02/15/26 02:00 PM CST\n - 02/15/26 04:00 PM CST\Description:\n“Tragic Passions” is a dramatic orchestral concert exploring love, obsession, and fate through two romantic masterpieces. Tchaikovsky’s Romeo and Juliet Fantasy Overture opens the program with sweeping melodies and emotional intensity, capturing the doomed passion of Shakespeare’s iconic lovers. Berlioz’s Symphonie Fantastique follows, a groundbreaking work that plunges into the mind of a lovesick artist, driven to madness by unrequited love. With vivid orchestration and haunting themes, both works delve into the darker side of romance, culminating in a powerful, emotionally charged experience.\Details:\nAdults $20, Students $5.\n \Location:\nAlexandria Area High School Performing Arts Center\n4300 Pioneer Drive\nAlexandria, MN 56308
X-ALT-DESC;FMTTYPE=text/html:Central Lakes Symphony Orchestra Concert<br /><br />02/15/26 02:00 PM CST - 02/15/26 04:00 PM CST<br />Description:<br />&ldquo;Tragic Passions&rdquo; is a dramatic orchestral concert exploring love, obsession, and fate through two romantic masterpieces. Tchaikovsky&rsquo;s&nbsp;<em>Romeo and Juliet Fantasy Overture</em>&nbsp;opens the program with sweeping melodies and emotional intensity, capturing the doomed passion of Shakespeare&rsquo;s iconic lovers. Berlioz&rsquo;s&nbsp;<em>Symphonie Fantastique</em>&nbsp;follows, a groundbreaking work that plunges into the mind of a lovesick artist, driven to madness by unrequited love. With vivid orchestration and haunting themes, both works delve into the darker side of romance, culminating in a powerful, emotionally charged experience.<br />Details:<br />Adults $20, Students $5.<br />
&nbsp;<br />Location:<br />Alexandria Area High School Performing Arts Center<br />4300 Pioneer Drive<br />Alexandria, MN 56308
PRIORITY:3
TRANSP:TRANSPARENT
BEGIN:VALARM
TRIGGER:-PT5M
ACTION:DISPLAY
DESCRIPTION:Reminder
END:VALARM
END:VEVENT
END:VCALENDAR
