BEGIN:VCALENDAR
VERSION:2.0
CALSCALE:GREGORIAN
METHOD:PUBLISH
PRODID://GLAC//1416813
BEGIN:VEVENT
DTSTAMP:20260422T072406
VTIMEZONE:America/Chicago
DTSTART:20260423T130000Z
DTEND:20260423T213000Z
UID:1416813
SUMMARY:FAST Global Solutions
LOCATION:Glenwood Lakes Area Welcome Center, 7 First Street NW, Glenwood, MN, 56334
DESCRIPTION:FAST Global Solutions\n\n04/23/26 08:00 AM CST\n - 04/23/26 04:30 PM CST\Location:\nGlenwood Lakes Area Welcome Center\n7 First Street NW\nGlenwood, MN 56334
X-ALT-DESC;FMTTYPE=text/html:FAST Global Solutions<br /><br />04/23/26 08:00 AM CST - 04/23/26 04:30 PM CST<br />Location:<br />Glenwood Lakes Area Welcome Center<br />7 First Street NW<br />Glenwood, MN 56334
PRIORITY:3
TRANSP:TRANSPARENT
BEGIN:VALARM
TRIGGER:-PT5M
ACTION:DISPLAY
DESCRIPTION:Reminder
END:VALARM
END:VEVENT
END:VCALENDAR
