BEGIN:VCALENDAR
VERSION:2.0
CALSCALE:GREGORIAN
METHOD:PUBLISH
PRODID://GLAC//1416683
BEGIN:VEVENT
DTSTAMP:20260422T072034
VTIMEZONE:America/Chicago
DTSTART:20260505T160000Z
DTEND:20260505T190000Z
UID:1416683
SUMMARY:Eagle Financial Services
LOCATION:Glenwood Lakes Area Chamber of Commerce, 7 First Street NW, Glenwood, MN, 56334
DESCRIPTION:Eagle Financial Services\n\n05/05/26 11:00 AM CST\n - 05/05/26 02:00 PM CST\Description:\nEagle Financial Services\Location:\nGlenwood Lakes Area Chamber of Commerce\n7 First Street NW\nGlenwood, MN 56334
X-ALT-DESC;FMTTYPE=text/html:Eagle Financial Services<br /><br />05/05/26 11:00 AM CST - 05/05/26 02:00 PM CST<br />Description:<br />Eagle Financial Services<br />Location:<br />Glenwood Lakes Area Chamber of Commerce<br />7 First Street NW<br />Glenwood, MN 56334
PRIORITY:3
TRANSP:TRANSPARENT
BEGIN:VALARM
TRIGGER:-PT5M
ACTION:DISPLAY
DESCRIPTION:Reminder
END:VALARM
END:VEVENT
END:VCALENDAR
