BEGIN:VCALENDAR
VERSION:2.0
CALSCALE:GREGORIAN
METHOD:PUBLISH
PRODID://GLAC//1416671
BEGIN:VEVENT
DTSTAMP:20260422T111130
VTIMEZONE:America/Chicago
DTSTART:20260416T210000Z
DTEND:20260417T000000Z
UID:1416671
SUMMARY:Eagle Financial Services
LOCATION:Glenwood Lakes Area Welcome Center, 7 First Street NW, Glenwood, MN, 56334
DESCRIPTION:Eagle Financial Services\n\n04/16/26 04:00 PM CST\n - 04/16/26 07:00 PM CST\Description:\nConference Room Reserved \Location:\nGlenwood Lakes Area Welcome Center\n7 First Street NW\nGlenwood, MN 56334
X-ALT-DESC;FMTTYPE=text/html:Eagle Financial Services<br /><br />04/16/26 04:00 PM CST - 04/16/26 07:00 PM CST<br />Description:<br />Conference Room Reserved&nbsp;<br />Location:<br />Glenwood Lakes Area Welcome Center<br />7 First Street NW<br />Glenwood, MN 56334
PRIORITY:3
TRANSP:TRANSPARENT
BEGIN:VALARM
TRIGGER:-PT5M
ACTION:DISPLAY
DESCRIPTION:Reminder
END:VALARM
END:VEVENT
END:VCALENDAR
