BEGIN:VCALENDAR
VERSION:2.0
CALSCALE:GREGORIAN
METHOD:PUBLISH
PRODID://GLAC//1416454
BEGIN:VEVENT
DTSTAMP:20260422T092113
VTIMEZONE:America/Chicago
DTSTART:20260331T163000Z
DTEND:20260331T180000Z
UID:1416454
SUMMARY:Pope County Community Expo Meeting
LOCATION:Glenwood Lakes Area Chamber of Commerce, 7 First Street NW, Glenwood, MN, 56334
DESCRIPTION:Pope County Community Expo Meeting\n\n03/31/26 11:30 AM CST\n - 03/31/26 01:00 PM CST\Description:\nCommittee Meeting \Location:\nGlenwood Lakes Area Chamber of Commerce\n7 First Street NW\nGlenwood, MN 56334
X-ALT-DESC;FMTTYPE=text/html:Pope County Community Expo Meeting<br /><br />03/31/26 11:30 AM CST - 03/31/26 01:00 PM CST<br />Description:<br />Committee Meeting&nbsp;<br />Location:<br />Glenwood Lakes Area Chamber of Commerce<br />7 First Street NW<br />Glenwood, MN 56334
PRIORITY:3
TRANSP:TRANSPARENT
BEGIN:VALARM
TRIGGER:-PT5M
ACTION:DISPLAY
DESCRIPTION:Reminder
END:VALARM
END:VEVENT
END:VCALENDAR
