BEGIN:VCALENDAR
VERSION:2.0
CALSCALE:GREGORIAN
METHOD:PUBLISH
PRODID://GLAC//1411945
BEGIN:VEVENT
DTSTAMP:20260422T111130
VTIMEZONE:America/Chicago
DTSTART:20260227T003000Z
DTEND:20260227T023000Z
UID:1411945
SUMMARY:City of Glenwood = Fire Meeting
LOCATION:Glenwood Lakes Area Chamber of Commerce, 7 First Street NW, Glenwood, MN, 56334
DESCRIPTION:City of Glenwood = Fire Meeting\n\n02/26/26 06:30 PM CST\n - 02/26/26 08:30 PM CST\Location:\nGlenwood Lakes Area Chamber of Commerce\n7 First Street NW\nGlenwood, MN 56334
X-ALT-DESC;FMTTYPE=text/html:City of Glenwood = Fire Meeting<br /><br />02/26/26 06:30 PM CST - 02/26/26 08:30 PM CST<br />Location:<br />Glenwood Lakes Area Chamber of Commerce<br />7 First Street NW<br />Glenwood, MN 56334
PRIORITY:3
TRANSP:TRANSPARENT
BEGIN:VALARM
TRIGGER:-PT5M
ACTION:DISPLAY
DESCRIPTION:Reminder
END:VALARM
END:VEVENT
END:VCALENDAR
