BEGIN:VCALENDAR
VERSION:2.0
CALSCALE:GREGORIAN
METHOD:PUBLISH
PRODID://GLAC//1407330
BEGIN:VEVENT
DTSTAMP:20260422T111102
VTIMEZONE:America/Chicago
DTSTART:20260216T160000Z
DTEND:20260216T230000Z
UID:1407330
SUMMARY:Glenwood Day at Andes Tower Hills
LOCATION:Andes  Tower Hills, 4505 Andes Rd SW, Glenwood, MN, 56334
DESCRIPTION:Glenwood Day at Andes Tower Hills\n\n02/16/26 10:00 AM CST\n - 02/16/26 05:00 PM CST\Description:\nGlenwood Day at Andes Tower Hills\nReduced Ticket Prices\n(\n \Location:\nAndes  Tower Hills\n4505 Andes Rd SW\nGlenwood, MN 56334
X-ALT-DESC;FMTTYPE=text/html:Glenwood Day at Andes Tower Hills<br /><br />02/16/26 10:00 AM CST - 02/16/26 05:00 PM CST<br />Description:<br />Glenwood Day at Andes Tower Hills<br />
Reduced Ticket Prices<br />
(<br />
&nbsp;<br />Location:<br />Andes  Tower Hills<br />4505 Andes Rd SW<br />Glenwood, MN 56334
PRIORITY:3
TRANSP:TRANSPARENT
BEGIN:VALARM
TRIGGER:-PT5M
ACTION:DISPLAY
DESCRIPTION:Reminder
END:VALARM
END:VEVENT
END:VCALENDAR
