BEGIN:VCALENDAR
VERSION:2.0
CALSCALE:GREGORIAN
METHOD:PUBLISH
PRODID://GLAC//1404666
BEGIN:VEVENT
DTSTAMP:20260422T072114
VTIMEZONE:America/Chicago
DTSTART:20260603T140000Z
DTEND:20260603T150000Z
UID:1404666
SUMMARY:Newcomers Coffee Hour
LOCATION:Glenwood Lakes Area Chamber of Commerce, 7 First Street NW, Glenwood, MN, 56334
DESCRIPTION:Newcomers Coffee Hour\n\n06/03/26 09:00 AM CST\n - 06/03/26 10:00 AM CST\Description:\nNewcomers Monthly Coffee Hour\nFirst Wednesday of the Month\n9:00 to 10:00\nWelcome Center Conference Room\n \Location:\nGlenwood Lakes Area Chamber of Commerce\n7 First Street NW\nGlenwood, MN 56334
X-ALT-DESC;FMTTYPE=text/html:Newcomers Coffee Hour<br /><br />06/03/26 09:00 AM CST - 06/03/26 10:00 AM CST<br />Description:<br />Newcomers Monthly&nbsp;Coffee Hour<br />
First Wednesday of the Month<br />
9:00 to 10:00<br />
Welcome Center Conference Room<br />
&nbsp;<br />Location:<br />Glenwood Lakes Area Chamber of Commerce<br />7 First Street NW<br />Glenwood, MN 56334
PRIORITY:3
TRANSP:TRANSPARENT
BEGIN:VALARM
TRIGGER:-PT5M
ACTION:DISPLAY
DESCRIPTION:Reminder
END:VALARM
END:VEVENT
END:VCALENDAR
