BEGIN:VCALENDAR
VERSION:2.0
CALSCALE:GREGORIAN
METHOD:PUBLISH
PRODID://GLAC//1404632
BEGIN:VEVENT
DTSTAMP:20260422T125915
VTIMEZONE:America/Chicago
DTSTART:20260121T173000Z
DTEND:20260121T190000Z
UID:1404632
SUMMARY:Welcome Center and Chamber of Commerce Board meeting
LOCATION:Glenwood Welcome Center  and Glenwood Lakes Area Chamber of Commerce, 7 First Street NW, Glenwood, MN, 56334
DESCRIPTION:Welcome Center and Chamber of Commerce Board meeting\n\n01/21/26 11:30 AM CST\n - 01/21/26 01:00 PM CST\Location:\nGlenwood Welcome Center  and Glenwood Lakes Area Chamber of Commerce\n7 First Street NW\nGlenwood, MN 56334
X-ALT-DESC;FMTTYPE=text/html:Welcome Center and Chamber of Commerce Board meeting<br /><br />01/21/26 11:30 AM CST - 01/21/26 01:00 PM CST<br />Location:<br />Glenwood Welcome Center  and Glenwood Lakes Area Chamber of Commerce<br />7 First Street NW<br />Glenwood, MN 56334
PRIORITY:3
TRANSP:TRANSPARENT
BEGIN:VALARM
TRIGGER:-PT5M
ACTION:DISPLAY
DESCRIPTION:Reminder
END:VALARM
END:VEVENT
END:VCALENDAR
