BEGIN:VCALENDAR
VERSION:2.0
CALSCALE:GREGORIAN
METHOD:PUBLISH
PRODID://GLAC//1404623
BEGIN:VEVENT
DTSTAMP:20260422T072205
VTIMEZONE:America/Chicago
DTSTART:20260617T163000Z
DTEND:20260617T180000Z
UID:1404623
SUMMARY:Welcome Center & Chamber of Commerce Board Meeting
LOCATION:Glenwood Lakes Area Welcome Center, 7 First Street NW, Glenwood, MN, 56334
DESCRIPTION:Welcome Center & Chamber of Commerce Board Meeting\n\n06/17/26 11:30 AM CST\n - 06/17/26 01:00 PM CST\Description:\nMonthly Board Meeting for\nGlenwood Welcome Center & Glenwood Chamber of Commerce\nWelcome Center and Chamber Board Meeting\n\n\Location:\nGlenwood Lakes Area Welcome Center\n7 First Street NW\nGlenwood, MN 56334
X-ALT-DESC;FMTTYPE=text/html:Welcome Center & Chamber of Commerce Board Meeting<br /><br />06/17/26 11:30 AM CST - 06/17/26 01:00 PM CST<br />Description:<br />Monthly Board Meeting for
Glenwood Welcome Center & Glenwood Chamber of Commerce
Welcome Center and Chamber Board Meeting

<br />Location:<br />Glenwood Lakes Area Welcome Center<br />7 First Street NW<br />Glenwood, MN 56334
PRIORITY:3
TRANSP:TRANSPARENT
BEGIN:VALARM
TRIGGER:-PT5M
ACTION:DISPLAY
DESCRIPTION:Reminder
END:VALARM
END:VEVENT
END:VCALENDAR
