BEGIN:VCALENDAR
VERSION:2.0
CALSCALE:GREGORIAN
METHOD:PUBLISH
PRODID://GLAC//1404577
BEGIN:VEVENT
DTSTAMP:20260422T145451
VTIMEZONE:America/Chicago
DTSTART:20260814T014500Z
DTEND:20260814T033000Z
UID:1404577
SUMMARY:Movie in the Park
LOCATION:Glenwood City Park, across from Lake Minnewaska and Lakeside Restaurant, Glenwood, MN, 56334
DESCRIPTION:Movie in the Park\n\n08/13/26 08:45 PM CST\n - 08/13/26 10:30 PM CST\Description:\nMovie In the Park\n(Family Movie)\nGlenwood City Park\n8:45 p.m.\n \Location:\nGlenwood City Park\nacross from Lake Minnewaska and Lakeside Restaurant\nGlenwood, MN 56334
X-ALT-DESC;FMTTYPE=text/html:Movie in the Park<br /><br />08/13/26 08:45 PM CST - 08/13/26 10:30 PM CST<br />Description:<br />Movie In the Park<br />
(Family Movie)<br />
Glenwood City Park<br />
8:45 p.m.<br />
&nbsp;<br />Location:<br />Glenwood City Park<br />across from Lake Minnewaska and Lakeside Restaurant<br />Glenwood, MN 56334
PRIORITY:3
TRANSP:TRANSPARENT
BEGIN:VALARM
TRIGGER:-PT5M
ACTION:DISPLAY
DESCRIPTION:Reminder
END:VALARM
END:VEVENT
END:VCALENDAR
