BEGIN:VCALENDAR
VERSION:2.0
CALSCALE:GREGORIAN
METHOD:PUBLISH
PRODID://GLAC//1404567
BEGIN:VEVENT
DTSTAMP:20260422T125933
VTIMEZONE:America/Chicago
DTSTART:20260728T210000Z
DTEND:20260728T230000Z
UID:1404567
SUMMARY:Pope County Farmers Market, Glenwood
LOCATION:Barsness Park (Parking lot South of the Pope County Museum )  Look for the Totem Pole!, State Hwy 104 S or Franklin Street South, Glenwood, MN, 56334
DESCRIPTION:Pope County Farmers Market, Glenwood\n\n07/28/26 04:00 PM CST\n - 07/28/26 06:00 PM CST\Description:\nPope County Farmers Market, Glenwood\nLocated at Barsness Park - South Hwy 104  (South of the Pope County Museum)\n \Location:\nBarsness Park (Parking lot South of the Pope County Museum )  Look for the Totem Pole!\nState Hwy 104 S or Franklin Street South\nGlenwood, MN 56334
X-ALT-DESC;FMTTYPE=text/html:Pope County Farmers Market, Glenwood<br /><br />07/28/26 04:00 PM CST - 07/28/26 06:00 PM CST<br />Description:<br />Pope County Farmers Market, Glenwood<br />
Located at Barsness Park - South Hwy 104&nbsp; (South of the Pope County Museum)<br />
&nbsp;<br />Location:<br />Barsness Park (Parking lot South of the Pope County Museum )  Look for the Totem Pole!<br />State Hwy 104 S or Franklin Street South<br />Glenwood, MN 56334
PRIORITY:3
TRANSP:TRANSPARENT
BEGIN:VALARM
TRIGGER:-PT5M
ACTION:DISPLAY
DESCRIPTION:Reminder
END:VALARM
END:VEVENT
END:VCALENDAR
