BEGIN:VCALENDAR
VERSION:2.0
CALSCALE:GREGORIAN
METHOD:PUBLISH
PRODID://GLAC//1404436
BEGIN:VEVENT
DTSTAMP:20260422T173542
VTIMEZONE:America/Chicago
DTSTART:20261210T220000Z
DTEND:20261211T010000Z
UID:1404436
SUMMARY:Magical Christmas in Glenwood
LOCATION:Glenwood Lakes Area Welcome Center, 7 First Street NW, Glenwood, MN, 56334
DESCRIPTION:Magical Christmas in Glenwood\n\n12/10/26 04:00 PM CST\n - 12/10/26 07:00 PM CST\Description:\nMagical Christmas in Glenwood\nThree Thursdays in December \nDecember 3, 10 and 17\n4:00-7:00 p.m.\n \Location:\nGlenwood Lakes Area Welcome Center\n7 First Street NW\nGlenwood, MN 56334
X-ALT-DESC;FMTTYPE=text/html:Magical Christmas in Glenwood<br /><br />12/10/26 04:00 PM CST - 12/10/26 07:00 PM CST<br />Description:<br />Magical Christmas in Glenwood<br />
Three Thursdays in December&nbsp;<br />
December 3, 10 and 17<br />
4:00-7:00 p.m.<br />
&nbsp;<br />Location:<br />Glenwood Lakes Area Welcome Center<br />7 First Street NW<br />Glenwood, MN 56334
PRIORITY:3
TRANSP:TRANSPARENT
BEGIN:VALARM
TRIGGER:-PT5M
ACTION:DISPLAY
DESCRIPTION:Reminder
END:VALARM
END:VEVENT
END:VCALENDAR
