BEGIN:VCALENDAR
VERSION:2.0
CALSCALE:GREGORIAN
METHOD:PUBLISH
PRODID://GLAC//1404408
BEGIN:VEVENT
DTSTAMP:20260422T193202
VTIMEZONE:America/Chicago
DTSTART:20261031T210000Z
DTEND:20261031T230000Z
UID:1404408
SUMMARY:CommunityTrick or Treat
LOCATION:Glenwood Lakes Area Welcome Center/Chamber Building, 7 First Street NW, Glenwood, MN, 56334
DESCRIPTION:CommunityTrick or Treat\n\n10/31/26 04:00 PM CST\n - 10/31/26 06:00 PM CST\Description:\nCommunityTrick or treat\nSaturday, October 31, 2026\n4:00-6:00 PM\nGlenwood Welcome Center\n(suggested ages 00-12)\Location:\nGlenwood Lakes Area Welcome Center/Chamber Building\n7 First Street NW\nGlenwood, MN 56334
X-ALT-DESC;FMTTYPE=text/html:CommunityTrick or Treat<br /><br />10/31/26 04:00 PM CST - 10/31/26 06:00 PM CST<br />Description:<br />CommunityTrick or treat<br />
Saturday, October 31, 2026<br />
4:00-6:00 PM<br />
Glenwood Welcome Center<br />
(suggested ages 00-12)<br />Location:<br />Glenwood Lakes Area Welcome Center/Chamber Building<br />7 First Street NW<br />Glenwood, MN 56334
PRIORITY:3
TRANSP:TRANSPARENT
BEGIN:VALARM
TRIGGER:-PT5M
ACTION:DISPLAY
DESCRIPTION:Reminder
END:VALARM
END:VEVENT
END:VCALENDAR
