BEGIN:VCALENDAR
VERSION:2.0
CALSCALE:GREGORIAN
METHOD:PUBLISH
PRODID://GLAC//1404376
BEGIN:VEVENT
DTSTAMP:20260422T071850
VTIMEZONE:America/Chicago
DTSTART:20260521T163000Z
DTEND:20260521T180000Z
UID:1404376
SUMMARY:Community Awards Banquet
LOCATION:Minnewaska House Brewing Company and Grill, 24895 MN28 Glenwood, MN, Glenwood, MN, 56334
DESCRIPTION:Community Awards Banquet\n\n05/21/26 11:30 AM CST\n - 05/21/26 01:00 PM CST\Description:\nCommunity Awards Banquet\nThursday, May 21, 2026\n11:30 am-1:00 pm\nMinnewaska House\n \Location:\nMinnewaska House Brewing Company and Grill\n24895 MN28 Glenwood, MN\nGlenwood, MN 56334
X-ALT-DESC;FMTTYPE=text/html:Community Awards Banquet<br /><br />05/21/26 11:30 AM CST - 05/21/26 01:00 PM CST<br />Description:<br />Community Awards Banquet<br />
Thursday, May 21, 2026<br />
11:30 am-1:00 pm<br />
Minnewaska House<br />
&nbsp;<br />Location:<br />Minnewaska House Brewing Company and Grill<br />24895 MN28 Glenwood, MN<br />Glenwood, MN 56334
PRIORITY:3
TRANSP:TRANSPARENT
BEGIN:VALARM
TRIGGER:-PT5M
ACTION:DISPLAY
DESCRIPTION:Reminder
END:VALARM
END:VEVENT
END:VCALENDAR
