BEGIN:VCALENDAR
VERSION:2.0
CALSCALE:GREGORIAN
METHOD:PUBLISH
PRODID://GLAC//1404369
BEGIN:VEVENT
DTSTAMP:20260422T092113
VTIMEZONE:America/Chicago
DTSTART:20260312T233000Z
DTEND:20260313T010000Z
UID:1404369
SUMMARY:Pope County Farmers Market Review of 2025 and Plans for 2026
LOCATION:Glenwood Lakes Area Welcome Center, 7 First Street NW, Glenwood, MN, 56334
DESCRIPTION:Pope County Farmers Market Review of 2025 and Plans for 2026\n\n03/12/26 06:30 PM CST\n - 03/12/26 08:00 PM CST\Description:\nPast or future Farmers Market Vendors welcome to attend.\n6:30-8:00 PM\nGlenwood Welcome Center Conference Room\n \Location:\nGlenwood Lakes Area Welcome Center\n7 First Street NW\nGlenwood, MN 56334
X-ALT-DESC;FMTTYPE=text/html:Pope County Farmers Market Review of 2025 and Plans for 2026<br /><br />03/12/26 06:30 PM CST - 03/12/26 08:00 PM CST<br />Description:<br />Past or future Farmers Market Vendors welcome to attend.<br />
6:30-8:00 PM<br />
Glenwood Welcome Center Conference Room<br />
&nbsp;<br />Location:<br />Glenwood Lakes Area Welcome Center<br />7 First Street NW<br />Glenwood, MN 56334
PRIORITY:3
TRANSP:TRANSPARENT
BEGIN:VALARM
TRIGGER:-PT5M
ACTION:DISPLAY
DESCRIPTION:Reminder
END:VALARM
END:VEVENT
END:VCALENDAR
