BEGIN:VCALENDAR
VERSION:2.0
CALSCALE:GREGORIAN
METHOD:PUBLISH
PRODID://GLAC//1403835
BEGIN:VEVENT
DTSTAMP:20260422T130044
VTIMEZONE:America/Chicago
DTSTART:20260128T003000Z
DTEND:20260128T023000Z
UID:1403835
SUMMARY:Glenwood Development Corporation Annual Meeting
LOCATION:Glenwood Lakes Area Welcome Center, 7 First Street NW, Glenwood, MN, 56334
DESCRIPTION:Glenwood Development Corporation Annual Meeting\n\n01/27/26 06:30 PM CST\n - 01/27/26 08:30 PM CST\Description:\nGlenwood Deveoplment Corporation Annual Meeting\nGlenwood Welcome Center\n6:30-8:30 PM\Location:\nGlenwood Lakes Area Welcome Center\n7 First Street NW\nGlenwood, MN 56334
X-ALT-DESC;FMTTYPE=text/html:Glenwood Development Corporation Annual Meeting<br /><br />01/27/26 06:30 PM CST - 01/27/26 08:30 PM CST<br />Description:<br />Glenwood Deveoplment Corporation Annual Meeting<br />
Glenwood Welcome Center<br />
6:30-8:30 PM<br />Location:<br />Glenwood Lakes Area Welcome Center<br />7 First Street NW<br />Glenwood, MN 56334
PRIORITY:3
TRANSP:TRANSPARENT
BEGIN:VALARM
TRIGGER:-PT5M
ACTION:DISPLAY
DESCRIPTION:Reminder
END:VALARM
END:VEVENT
END:VCALENDAR
