BEGIN:VCALENDAR
VERSION:2.0
CALSCALE:GREGORIAN
METHOD:PUBLISH
PRODID://GLAC//1400997
BEGIN:VEVENT
DTSTAMP:20260422T125914
VTIMEZONE:America/Chicago
DTSTART:20260105T183000Z
DTEND:20260105T200000Z
UID:1400997
SUMMARY:Eagle Bank Community Room Meeting
LOCATION:Glenwood Welcome Center Community Room , 7 First Street NW, Glenwood, MN 56334, Glenwood, MN, 56334
DESCRIPTION:Eagle Bank Community Room Meeting\n\n01/05/26 12:30 PM CST\n - 01/05/26 02:00 PM CST\Description:\n12:30-2:00 PM \Details:\n11am-12:30pm\Location:\nGlenwood Welcome Center Community Room \n7 First Street NW, Glenwood, MN 56334\nGlenwood, MN 56334
X-ALT-DESC;FMTTYPE=text/html:Eagle Bank Community Room Meeting<br /><br />01/05/26 12:30 PM CST - 01/05/26 02:00 PM CST<br />Description:<br />12:30-2:00 PM&nbsp;<br />Details:<br />11am-12:30pm<br />Location:<br />Glenwood Welcome Center Community Room <br />7 First Street NW, Glenwood, MN 56334<br />Glenwood, MN 56334
PRIORITY:3
TRANSP:TRANSPARENT
BEGIN:VALARM
TRIGGER:-PT5M
ACTION:DISPLAY
DESCRIPTION:Reminder
END:VALARM
END:VEVENT
END:VCALENDAR
