BEGIN:VCALENDAR
VERSION:2.0
CALSCALE:GREGORIAN
METHOD:PUBLISH
PRODID://GLAC//1396228
BEGIN:VEVENT
DTSTAMP:20260422T153227
VTIMEZONE:America/Chicago
DTSTART:20251218T220000Z
DTEND:20251219T010000Z
UID:1396228
SUMMARY:Magical Christmas in Glenwood - Living Nativity
LOCATION:Glenwood Lakes Area Chamber of Commerce, 7 First Street NW, Glenwood, MN, 56334
DESCRIPTION:Magical Christmas in Glenwood - Living Nativity\n\n12/18/25 04:00 PM CST\n - 12/18/25 07:00 PM CST\Description:\nLiving Nativity 4:00-7:00 p.m.\n\nIf you want to volunteer to be in the living nativity, contact Kay at the Welcome Center.\n \Location:\nGlenwood Lakes Area Chamber of Commerce\n7 First Street NW\nGlenwood, MN 56334
X-ALT-DESC;FMTTYPE=text/html:Magical Christmas in Glenwood - Living Nativity<br /><br />12/18/25 04:00 PM CST - 12/18/25 07:00 PM CST<br />Description:<br />Living Nativity 4:00-7:00 p.m.<br />
<br />
If you want to volunteer to be in the living nativity, contact Kay at the Welcome Center.<br />
&nbsp;<br />Location:<br />Glenwood Lakes Area Chamber of Commerce<br />7 First Street NW<br />Glenwood, MN 56334
PRIORITY:3
TRANSP:TRANSPARENT
BEGIN:VALARM
TRIGGER:-PT5M
ACTION:DISPLAY
DESCRIPTION:Reminder
END:VALARM
END:VEVENT
END:VCALENDAR
