BEGIN:VCALENDAR
VERSION:2.0
CALSCALE:GREGORIAN
METHOD:PUBLISH
PRODID://GLAC//1393107
BEGIN:VEVENT
DTSTAMP:20260422T072407
VTIMEZONE:America/Chicago
DTSTART:20260317T230000Z
DTEND:20260318T013000Z
UID:1393107
SUMMARY:Pope County Daycare Association
LOCATION:Glenwood Lakes Area Welcome Center, 7 First Street NW, Glenwood, MN, 56334
DESCRIPTION:Pope County Daycare Association\n\n03/17/26 06:00 PM CST\n - 03/17/26 08:30 PM CST\Location:\nGlenwood Lakes Area Welcome Center\n7 First Street NW\nGlenwood, MN 56334
X-ALT-DESC;FMTTYPE=text/html:Pope County Daycare Association<br /><br />03/17/26 06:00 PM CST - 03/17/26 08:30 PM CST<br />Location:<br />Glenwood Lakes Area Welcome Center<br />7 First Street NW<br />Glenwood, MN 56334
PRIORITY:3
TRANSP:TRANSPARENT
BEGIN:VALARM
TRIGGER:-PT5M
ACTION:DISPLAY
DESCRIPTION:Reminder
END:VALARM
END:VEVENT
END:VCALENDAR
