BEGIN:VCALENDAR
VERSION:2.0
CALSCALE:GREGORIAN
METHOD:PUBLISH
PRODID://GLAC//1385216
BEGIN:VEVENT
DTSTAMP:20260422T190708
VTIMEZONE:America/Chicago
DTSTART:20251027T180000Z
DTEND:20251027T200000Z
UID:1385216
SUMMARY:Palmer Creationsnew event
LOCATION:Glenwood Lakes Area Welcome Center/Chamber Building, 7 First Street NW, Glenwood, MN, 56334
DESCRIPTION:Palmer Creationsnew event\n\n10/27/25 01:00 PM CST\n - 10/27/25 03:00 PM CST\Description:\nPalmer Creations\nWeb-design meetingHello\n \nI work for Palmer Creations, and some of the local churches need to meet with me about a website design for around 30-60 minutes on Monday 27th at 1pm. Is there any availability in a chamber conference room?\n \nThank you,\n \nCreative Designer\n\n107 Minnesota Ave E\nGlenwood, MN 56334\nOffice: (320) 634-4024\nkelsey@palmercreations.net\n\nwww.palmercreations.com\nwww.definitivewoman.com\nwww.lakesareamagazine.com\n \Location:\nGlenwood Lakes Area Welcome Center/Chamber Building\n7 First Street NW\nGlenwood, MN 56334
X-ALT-DESC;FMTTYPE=text/html:Palmer Creationsnew event<br /><br />10/27/25 01:00 PM CST - 10/27/25 03:00 PM CST<br />Description:<br />Palmer Creations<br />
Web-design meetingHello<br />
&nbsp;<br />
I work for Palmer Creations, and some of the local churches need to meet with me about a website design for around 30-60 minutes on Monday 27th at 1pm. Is there any availability in a chamber conference room?<br />
&nbsp;<br />
Thank you,<br />
&nbsp;<br />
Creative Designer<br />
<br />
107 Minnesota Ave E<br />
Glenwood, MN&nbsp;56334<br />
Office: (320) 634-4024<br />
<a href="mailto:kelsey@palmercreations.net">kelsey@palmercreations.net</a><br />
<br />
<a href="http://www.palmercreations.com">www.palmercreations.com</a><br />
<a href="http://www.definitivewoman.com">www.definitivewoman.com</a><br />
<a href="http://www.lakesareamagazine.com">www.lakesareamagazine.com</a><br />
&nbsp;<br />Location:<br />Glenwood Lakes Area Welcome Center/Chamber Building<br />7 First Street NW<br />Glenwood, MN 56334
PRIORITY:3
TRANSP:TRANSPARENT
BEGIN:VALARM
TRIGGER:-PT5M
ACTION:DISPLAY
DESCRIPTION:Reminder
END:VALARM
END:VEVENT
END:VCALENDAR
