BEGIN:VCALENDAR
VERSION:2.0
CALSCALE:GREGORIAN
METHOD:PUBLISH
PRODID://GLAC//1375776
BEGIN:VEVENT
DTSTAMP:20260422T190120
VTIMEZONE:America/Chicago
DTSTART:20251022T153000Z
DTEND:20251022T183000Z
UID:1375776
SUMMARY:Domestic Violence Awareness Walk
LOCATION:Glenwood Lakes Area Chamber of Commerce, 7 First Street NW, Glenwood, MN, 56334
DESCRIPTION:Domestic Violence Awareness Walk\n\n10/22/25 10:30 AM CST\n - 10/22/25 01:30 PM CST\Location:\nGlenwood Lakes Area Chamber of Commerce\n7 First Street NW\nGlenwood, MN 56334
X-ALT-DESC;FMTTYPE=text/html:Domestic Violence Awareness Walk<br /><br />10/22/25 10:30 AM CST - 10/22/25 01:30 PM CST<br />Location:<br />Glenwood Lakes Area Chamber of Commerce<br />7 First Street NW<br />Glenwood, MN 56334
PRIORITY:3
TRANSP:TRANSPARENT
BEGIN:VALARM
TRIGGER:-PT5M
ACTION:DISPLAY
DESCRIPTION:Reminder
END:VALARM
END:VEVENT
END:VCALENDAR
