BEGIN:VCALENDAR
VERSION:2.0
CALSCALE:GREGORIAN
METHOD:PUBLISH
PRODID://GLAC//1375770
BEGIN:VEVENT
DTSTAMP:20260422T144531
VTIMEZONE:America/Chicago
DTSTART:20251204T220000Z
DTEND:20251205T010000Z
UID:1375770
SUMMARY:Magical Christmas in Glenwood
LOCATION:Glenwood Lakes Area Chamber of Commerce, 7 First Street NW, Glenwood, MN, 56334
DESCRIPTION:Magical Christmas in Glenwood\n\n12/04/25 04:00 PM CST\n - 12/04/25 07:00 PM CST\Location:\nGlenwood Lakes Area Chamber of Commerce\n7 First Street NW\nGlenwood, MN 56334
X-ALT-DESC;FMTTYPE=text/html:Magical Christmas in Glenwood<br /><br />12/04/25 04:00 PM CST - 12/04/25 07:00 PM CST<br />Location:<br />Glenwood Lakes Area Chamber of Commerce<br />7 First Street NW<br />Glenwood, MN 56334
PRIORITY:3
TRANSP:TRANSPARENT
BEGIN:VALARM
TRIGGER:-PT5M
ACTION:DISPLAY
DESCRIPTION:Reminder
END:VALARM
END:VEVENT
END:VCALENDAR
